BEGIN:VCALENDAR
VERSION:2.0
PRODID:-//eventon.com NONSGML v1.0//EN
CALSCALE:GREGORIAN
METHOD:PUBLISH
BEGIN:VEVENT
UID:69e49bcf6b9d2
DTSTAMP:20260419T100935
DTSTART:20250906T100000Z
DTEND:20250906T120000Z
TZID:Europe/Berlin
LOCATION:
SUMMARY:Stadtfest Winterhude
DESCRIPTION:Stadtfest Winterhude\nhttps://www.christoph-ploss.de/events/stadtfest-winterhude/
URL:https://www.christoph-ploss.de/events/stadtfest-winterhude/
END:VEVENT
END:VCALENDAR