BEGIN:VCALENDAR
VERSION:2.0
PRODID:-//eventon.com NONSGML v1.0//EN
CALSCALE:GREGORIAN
METHOD:PUBLISH
BEGIN:VEVENT
UID:69e8d7d7bf7ac
DTSTAMP:20260422T141447Z
DTSTART:20241128T190000Z
DTEND:20241128T203000Z
LOCATION:Restaurant Irodion Ohlsdorfer Str. 1\,  22299 Hamburg
SUMMARY:Bürgerdialog
DESCRIPTION:Bürgerdialog\nhttps://www.christoph-ploss.de/events/buergerdia
 log-2/
URL:https://www.christoph-ploss.de/events/buergerdialog-2/
END:VEVENT
END:VCALENDAR