BEGIN:VCALENDAR
VERSION:2.0
PRODID:-//eventon.com NONSGML v1.0//EN
CALSCALE:GREGORIAN
METHOD:PUBLISH
BEGIN:VEVENT
UID:69e73b656f0a4
DTSTAMP:20260421T095501
DTSTART:20240227T190000Z
DTEND:20240227T203000Z
TZID:Europe/London
LOCATION:
SUMMARY:Bürgerdialog in Wellingsbüttel
DESCRIPTION:Bürgerdialog in Wellingsbüttel- 27. Februar\,  19 Uhr Klipper THC e. V. Eckerkamp 38\nhttps://www.christoph-ploss.de/events/buergerdialog-in-wellingsbuettel-27-februar-19-uhr/
URL:https://www.christoph-ploss.de/events/buergerdialog-in-wellingsbuettel-27-februar-19-uhr/
END:VEVENT
END:VCALENDAR