BEGIN:VCALENDAR
VERSION:2.0
PRODID:-//eventon.com NONSGML v1.0//EN
CALSCALE:GREGORIAN
METHOD:PUBLISH
BEGIN:VEVENT
UID:69e737a67a7e7
DTSTAMP:20260421T093902
DTSTART:20210824T150000Z
DTEND:20210824T170000Z
TZID:Pacific/Midway
LOCATION:
SUMMARY:Infostand in Winterhude
DESCRIPTION:Infostand in Winterhude\nhttps://www.christoph-ploss.de/events/infostand-in-winterhude-3/
URL:https://www.christoph-ploss.de/events/infostand-in-winterhude-3/
END:VEVENT
END:VCALENDAR