BEGIN:VCALENDAR
VERSION:2.0
PRODID:-//eventon.com NONSGML v1.0//EN
CALSCALE:GREGORIAN
METHOD:PUBLISH
BEGIN:VEVENT
UID:69e8d814a156d
DTSTAMP:20260422T141548Z
DTSTART:20210828T233000Z
DTEND:20210829T000000Z
LOCATION:Alsterdorfer Straße
SUMMARY:Infostand in Alsterdorf
DESCRIPTION:Infostand in Alsterdorf\nhttps://www.christoph-ploss.de/events/
 infostand-in-alsterdorf-2/
URL:https://www.christoph-ploss.de/events/infostand-in-alsterdorf-2/
END:VEVENT
END:VCALENDAR