BEGIN:VCALENDAR
VERSION:2.0
PRODID:-//eventon.com NONSGML v1.0//EN
CALSCALE:GREGORIAN
METHOD:PUBLISH
BEGIN:VEVENT
UID:69e74c69d60b2
DTSTAMP:20260421T110737
DTSTART:20210826T203000Z
DTEND:20210826T210000Z
TZID:Pacific/Midway
LOCATION:
SUMMARY:Digitaler Bürgerdialog auf Facebook
DESCRIPTION:Sehr geehrte Damen und Herren\,  ich lade am Donnerstag\,  dem 26. August 2021\,  um 20.30 Uhr zum digitalen Bürgerdialog auf Facebook ein. Über folgenden Link kommen Sie mit mir ins Gespräch: https://www.facebook.com/christophploss. Herzliche Grüße Ihr Christoph Ploß\nhttps://www.christoph-ploss.de/events/digitaler-buergerdialog-auf-facebook-18/var/event_access
URL:https://www.christoph-ploss.de/events/digitaler-buergerdialog-auf-facebook-18/var/event_access
END:VEVENT
END:VCALENDAR