BEGIN:VCALENDAR
VERSION:2.0
PRODID:-//eventon.com NONSGML v1.0//EN
CALSCALE:GREGORIAN
METHOD:PUBLISH
BEGIN:VEVENT
UID:69e7393f376a1
DTSTAMP:20260421T094551
DTSTART:20201022T193000Z
DTEND:20201022T210000Z
TZID:Europe/Berlin
LOCATION:
SUMMARY:"Arbeitsplätze\,  Klimaschutz\,  Europa – worauf es jetzt ankommt!" – mit Friedrich Merz
DESCRIPTION:Weitere Informationen erhalten Sie in Kürze: Melden Sie sich hierzu für &#8220;Ploß aktuell&#8221; an (hier klicken).\nhttps://www.christoph-ploss.de/events/arbeitsplaetze-klimaschutz-europa-worauf-es-jetzt-ankommt-mit-friedrich-merz/
URL:https://www.christoph-ploss.de/events/arbeitsplaetze-klimaschutz-europa-worauf-es-jetzt-ankommt-mit-friedrich-merz/
END:VEVENT
END:VCALENDAR