BEGIN:VCALENDAR
VERSION:2.0
PRODID:-//eventon.com NONSGML v1.0//EN
CALSCALE:GREGORIAN
METHOD:PUBLISH
BEGIN:VEVENT
UID:69e4c6e8a94e5
DTSTAMP:20260419T131328
DTSTART:20200812T200000Z
DTEND:20200812T203000Z
TZID:Europe/Berlin
LOCATION:
SUMMARY:Digitaler Bürgerdialog auf Facebook
DESCRIPTION:Sehr geehrte Damen und Herren\,  am Mittwoch\,  den 12. August um 20 Uhr lade ich zum digitalen Bürgerdialog auf Facebook ein. Über folgenden Link kommen Sie mit mir ins Gespräch: https://www.facebook.com/christophploss/. Herzliche Grüße Ihr Christoph Ploß\nhttps://www.christoph-ploss.de/events/digitaler-buergerdialog-auf-facebook-9/
URL:https://www.christoph-ploss.de/events/digitaler-buergerdialog-auf-facebook-9/
END:VEVENT
END:VCALENDAR