BEGIN:VCALENDAR
VERSION:2.0
PRODID:-//eventon.com NONSGML v1.0//EN
CALSCALE:GREGORIAN
METHOD:PUBLISH
BEGIN:VEVENT
UID:69e8a068c0e08
DTSTAMP:20260422T111816
DTSTART:20180915T120000Z
DTEND:20180915T140000Z
TZID:Europe/Berlin
LOCATION:
SUMMARY:Mühlenkampfest
DESCRIPTION:Mühlenkampfest\nhttps://www.christoph-ploss.de/events/muehlenkampfest/
URL:https://www.christoph-ploss.de/events/muehlenkampfest/
END:VEVENT
END:VCALENDAR